BEGIN:VCALENDAR
VERSION:2.0
PRODID:-//Dental Society of Western PA - ECPv6.15.20//NONSGML v1.0//EN
CALSCALE:GREGORIAN
METHOD:PUBLISH
X-WR-CALNAME:Dental Society of Western PA
X-ORIGINAL-URL:https://dswp.org
X-WR-CALDESC:Events for Dental Society of Western PA
REFRESH-INTERVAL;VALUE=DURATION:PT1H
X-Robots-Tag:noindex
X-PUBLISHED-TTL:PT1H
BEGIN:VTIMEZONE
TZID:America/New_York
BEGIN:DAYLIGHT
TZOFFSETFROM:-0500
TZOFFSETTO:-0400
TZNAME:EDT
DTSTART:20220313T070000
END:DAYLIGHT
BEGIN:STANDARD
TZOFFSETFROM:-0400
TZOFFSETTO:-0500
TZNAME:EST
DTSTART:20221106T060000
END:STANDARD
BEGIN:DAYLIGHT
TZOFFSETFROM:-0500
TZOFFSETTO:-0400
TZNAME:EDT
DTSTART:20230312T070000
END:DAYLIGHT
BEGIN:STANDARD
TZOFFSETFROM:-0400
TZOFFSETTO:-0500
TZNAME:EST
DTSTART:20231105T060000
END:STANDARD
BEGIN:DAYLIGHT
TZOFFSETFROM:-0500
TZOFFSETTO:-0400
TZNAME:EDT
DTSTART:20240310T070000
END:DAYLIGHT
BEGIN:STANDARD
TZOFFSETFROM:-0400
TZOFFSETTO:-0500
TZNAME:EST
DTSTART:20241103T060000
END:STANDARD
BEGIN:DAYLIGHT
TZOFFSETFROM:-0500
TZOFFSETTO:-0400
TZNAME:EDT
DTSTART:20250309T070000
END:DAYLIGHT
BEGIN:STANDARD
TZOFFSETFROM:-0400
TZOFFSETTO:-0500
TZNAME:EST
DTSTART:20251102T060000
END:STANDARD
BEGIN:DAYLIGHT
TZOFFSETFROM:-0500
TZOFFSETTO:-0400
TZNAME:EDT
DTSTART:20260308T070000
END:DAYLIGHT
BEGIN:STANDARD
TZOFFSETFROM:-0400
TZOFFSETTO:-0500
TZNAME:EST
DTSTART:20261101T060000
END:STANDARD
BEGIN:DAYLIGHT
TZOFFSETFROM:-0500
TZOFFSETTO:-0400
TZNAME:EDT
DTSTART:20270314T070000
END:DAYLIGHT
BEGIN:STANDARD
TZOFFSETFROM:-0400
TZOFFSETTO:-0500
TZNAME:EST
DTSTART:20271107T060000
END:STANDARD
END:VTIMEZONE
BEGIN:VEVENT
DTSTART;TZID=America/New_York:20260415T200000
DTEND;TZID=America/New_York:20260415T200000
DTSTAMP:20260420T063223
CREATED:20260330T010816Z
LAST-MODIFIED:20260330T010816Z
UID:3165-1776283200-1776283200@dswp.org
SUMMARY:Special Meeting for Members
DESCRIPTION:Please call 412-321-5810 to request a link for the meeting.
URL:https://dswp.org/event/special-meeting-for-members/
LOCATION:PA
CATEGORIES:Member Meeting
ATTACH;FMTTYPE=image/png:https://dswp.org/wp-content/uploads/2023/07/pittsburgh-bridge-bod.png
END:VEVENT
BEGIN:VEVENT
DTSTART;TZID=America/New_York:20260415T190000
DTEND;TZID=America/New_York:20260415T190000
DTSTAMP:20260420T063223
CREATED:20260309T003257Z
LAST-MODIFIED:20260309T003257Z
UID:3142-1776279600-1776279600@dswp.org
SUMMARY:Board of Directors Meeting
DESCRIPTION:
URL:https://dswp.org/event/board-of-directors-meeting-14/
LOCATION:PA
CATEGORIES:Board of Director's Meeting
ATTACH;FMTTYPE=image/png:https://dswp.org/wp-content/uploads/2023/07/pittsburgh-bridge-bod.png
END:VEVENT
BEGIN:VEVENT
DTSTART;TZID=America/New_York:20260318T190000
DTEND;TZID=America/New_York:20260318T190000
DTSTAMP:20260420T063223
CREATED:20260309T003105Z
LAST-MODIFIED:20260309T003105Z
UID:3141-1773860400-1773860400@dswp.org
SUMMARY:Board of Directors Meeting
DESCRIPTION:
URL:https://dswp.org/event/board-of-directors-meeting-13/
LOCATION:PA
CATEGORIES:Board of Director's Meeting
ATTACH;FMTTYPE=image/png:https://dswp.org/wp-content/uploads/2023/07/pittsburgh-bridge-bod.png
END:VEVENT
BEGIN:VEVENT
DTSTART;VALUE=DATE:20251106
DTEND;VALUE=DATE:20251108
DTSTAMP:20260420T063223
CREATED:20250408T125007Z
LAST-MODIFIED:20250424T154752Z
UID:2971-1762387200-1762559999@dswp.org
SUMMARY:2025 3Rivers Dental Conference
DESCRIPTION:Register Now for November 2025!\n\n\nGet ready to enrich your knowledge\, expand your skills\, and ignite your passion for dentistry. Earn valuable continuing education credits while connecting with industry leaders and exploring the latest advancements in dental care. Don’t miss this opportunity to advance excellence in dental care. \n  \nLearn More
URL:https://dswp.org/event/2025-3-rivers-dental-conference/
LOCATION:Nemacolin Woodlands Resort\, Farmington\, Pennsylvania\, 15437
CATEGORIES:Three Rivers Dental Conference
ATTACH;FMTTYPE=image/png:https://dswp.org/wp-content/uploads/2023/07/three-rivers-dental-conference.png
END:VEVENT
BEGIN:VEVENT
DTSTART;TZID=America/New_York:20250917T190000
DTEND;TZID=America/New_York:20250917T190000
DTSTAMP:20260420T063223
CREATED:20250608T172220Z
LAST-MODIFIED:20250608T172220Z
UID:3047-1758135600-1758135600@dswp.org
SUMMARY:Board of Directors Meeting
DESCRIPTION:This meeting will be held in person at the DSWP office. \n  \n 
URL:https://dswp.org/event/board-of-directors-meeting-12/
LOCATION:Dental Society of Western Pennsylvania\, 900 Cedar Avenue\, Pittsburgh\, PA\, 15212\, United States
CATEGORIES:Board of Director's Meeting
ATTACH;FMTTYPE=image/png:https://dswp.org/wp-content/uploads/2023/07/pittsburgh-bridge-bod.png
END:VEVENT
BEGIN:VEVENT
DTSTART;VALUE=DATE:20250814
DTEND;VALUE=DATE:20250826
DTSTAMP:20260420T063223
CREATED:20250608T173044Z
LAST-MODIFIED:20250608T173044Z
UID:3049-1755129600-1756166399@dswp.org
SUMMARY:PDA's Family Vacation Dental Conference
DESCRIPTION:
URL:https://dswp.org/event/pdas-family-vacation-dental-conference/
LOCATION:Hyatt Regency Chesapeake Bay Golf Resort\, 100 Heron Blvd US-5-\, Cambridge\, Maryland\, 21613
CATEGORIES:PDA's Dental Conference
ATTACH;FMTTYPE=image/jpeg:https://dswp.org/wp-content/uploads/2025/06/pda-dental-conference.jpg
END:VEVENT
BEGIN:VEVENT
DTSTART;TZID=America/New_York:20250618T190000
DTEND;TZID=America/New_York:20250618T190000
DTSTAMP:20260420T063223
CREATED:20250408T125939Z
LAST-MODIFIED:20250424T154713Z
UID:2974-1750273200-1750273200@dswp.org
SUMMARY:Board of Directors Meeting
DESCRIPTION:
URL:https://dswp.org/event/board-of-directors-meeting-11/
LOCATION:PA
CATEGORIES:Board of Director's Meeting
ATTACH;FMTTYPE=image/png:https://dswp.org/wp-content/uploads/2023/07/pittsburgh-bridge-bod.png
END:VEVENT
BEGIN:VEVENT
DTSTART;TZID=America/New_York:20250521T190000
DTEND;TZID=America/New_York:20250521T190000
DTSTAMP:20260420T063223
CREATED:20250408T125608Z
LAST-MODIFIED:20250424T154615Z
UID:2973-1747854000-1747854000@dswp.org
SUMMARY:Board of Directors Meeting
DESCRIPTION:
URL:https://dswp.org/event/board-of-directors-meeting-10/
LOCATION:PA
CATEGORIES:Board of Director's Meeting
ATTACH;FMTTYPE=image/png:https://dswp.org/wp-content/uploads/2023/07/pittsburgh-bridge-bod.png
END:VEVENT
BEGIN:VEVENT
DTSTART;TZID=America/New_York:20250416T180000
DTEND;TZID=America/New_York:20250416T180000
DTSTAMP:20260420T063223
CREATED:20250408T125315Z
LAST-MODIFIED:20250408T125433Z
UID:2972-1744826400-1744826400@dswp.org
SUMMARY:Board of Directors Meeting
DESCRIPTION:
URL:https://dswp.org/event/board-of-directors-meeting-9/
LOCATION:PA
CATEGORIES:Board of Director's Meeting
ATTACH;FMTTYPE=image/png:https://dswp.org/wp-content/uploads/2023/07/pittsburgh-bridge-bod.png
END:VEVENT
BEGIN:VEVENT
DTSTART;VALUE=DATE:20241107
DTEND;VALUE=DATE:20241109
DTSTAMP:20260420T063223
CREATED:20240828T154832Z
LAST-MODIFIED:20240828T154832Z
UID:2911-1730937600-1731110399@dswp.org
SUMMARY:2024 3 Rivers Dental Conference
DESCRIPTION:Register Now for November 2024!\n\n\nGet ready to enrich your knowledge\, expand your skills\, and ignite your passion for dentistry. Earn valuable continuing education credits while connecting with industry leaders and exploring the latest advancements in dental care. Don’t miss this opportunity to advance excellence in dental care. \nRoom prices starting at $349 + resort fees and taxes\n10% discount on all resort activities (golf\, spa)\nCall for reservations: 1-855-727-9802\n*mention the Dental Conference* \n  \n\nLearn More
URL:https://dswp.org/event/2024-3-rivers-dental-conference/
LOCATION:Nemacolin Woodlands Resort\, Farmington\, Pennsylvania\, 15437
CATEGORIES:Three Rivers Dental Conference
ATTACH;FMTTYPE=image/png:https://dswp.org/wp-content/uploads/2023/07/three-rivers-dental-conference.png
END:VEVENT
BEGIN:VEVENT
DTSTART;TZID=America/New_York:20240612T180000
DTEND;TZID=America/New_York:20240612T180000
DTSTAMP:20260420T063223
CREATED:20240521T022225Z
LAST-MODIFIED:20240521T144055Z
UID:2854-1718215200-1718215200@dswp.org
SUMMARY:Board of Directors Meeting
DESCRIPTION:
URL:https://dswp.org/event/board-of-directors-meeting-8/
LOCATION:Embassy Suites\, 535 Smithfield Street\, Pittsburgh\, Pennsylvania\, 15222
CATEGORIES:Board of Director's Meeting
ATTACH;FMTTYPE=image/png:https://dswp.org/wp-content/uploads/2023/07/pittsburgh-bridge-bod.png
END:VEVENT
BEGIN:VEVENT
DTSTART;VALUE=DATE:20240515
DTEND;VALUE=DATE:20240516
DTSTAMP:20260420T063223
CREATED:20231114T013245Z
LAST-MODIFIED:20231114T131651Z
UID:2675-1715731200-1715817599@dswp.org
SUMMARY:Board of Directors Meeting
DESCRIPTION:
URL:https://dswp.org/event/board-of-directors-meeting-7/
LOCATION:PA
CATEGORIES:Board of Director's Meeting
ATTACH;FMTTYPE=image/jpeg:https://dswp.org/wp-content/uploads/2023/11/bod-meeting.jpg
END:VEVENT
BEGIN:VEVENT
DTSTART;VALUE=DATE:20240419
DTEND;VALUE=DATE:20240421
DTSTAMP:20260420T063223
CREATED:20231114T012655Z
LAST-MODIFIED:20231114T131918Z
UID:2671-1713484800-1713657599@dswp.org
SUMMARY:PA's Dental Meeting
DESCRIPTION:
URL:https://dswp.org/event/pas-dental-meeting/
LOCATION:Mount Airy Casiono Resort\, 312 Woodland Rd\, Mt Pocono\, PA\, 18344\, United States
CATEGORIES:PA's Dental Meeting
ATTACH;FMTTYPE=image/jpeg:https://dswp.org/wp-content/uploads/2023/11/april-bod-meeting.jpg
END:VEVENT
BEGIN:VEVENT
DTSTART;VALUE=DATE:20240417
DTEND;VALUE=DATE:20240418
DTSTAMP:20260420T063223
CREATED:20231114T012002Z
LAST-MODIFIED:20231114T132242Z
UID:2669-1713312000-1713398399@dswp.org
SUMMARY:Board of Directors Meeting
DESCRIPTION:
URL:https://dswp.org/event/board-of-directors-meeting-6/
LOCATION:PA
CATEGORIES:Board of Director's Meeting
ATTACH;FMTTYPE=image/jpeg:https://dswp.org/wp-content/uploads/2023/11/april-bod-meeting-event.jpg
END:VEVENT
BEGIN:VEVENT
DTSTART;VALUE=DATE:20240320
DTEND;VALUE=DATE:20240321
DTSTAMP:20260420T063223
CREATED:20231114T010144Z
LAST-MODIFIED:20231114T132445Z
UID:2663-1710892800-1710979199@dswp.org
SUMMARY:Board of Directors Meeting
DESCRIPTION:
URL:https://dswp.org/event/board-of-directors-meeting-5/
LOCATION:PA
CATEGORIES:Board of Director's Meeting
ATTACH;FMTTYPE=image/jpeg:https://dswp.org/wp-content/uploads/2023/11/may-bod-meeting-event.jpg
END:VEVENT
BEGIN:VEVENT
DTSTART;VALUE=DATE:20240221
DTEND;VALUE=DATE:20240222
DTSTAMP:20260420T063223
CREATED:20231114T005801Z
LAST-MODIFIED:20231114T132724Z
UID:2661-1708473600-1708559999@dswp.org
SUMMARY:Board of Directors Meeting
DESCRIPTION:
URL:https://dswp.org/event/board-of-directors-meeting-4/
LOCATION:PA
CATEGORIES:Board of Director's Meeting
ATTACH;FMTTYPE=image/jpeg:https://dswp.org/wp-content/uploads/2023/11/february-bod-meeting-event.jpg
END:VEVENT
BEGIN:VEVENT
DTSTART;VALUE=DATE:20240117
DTEND;VALUE=DATE:20240118
DTSTAMP:20260420T063223
CREATED:20231114T005304Z
LAST-MODIFIED:20231114T005822Z
UID:2660-1705449600-1705535999@dswp.org
SUMMARY:Board of Directors Meeting
DESCRIPTION:
URL:https://dswp.org/event/board-of-directors-meeting-3/
LOCATION:PA
CATEGORIES:Board of Director's Meeting
ATTACH;FMTTYPE=image/jpeg:https://dswp.org/wp-content/uploads/2023/07/pittsburgh-bridge.jpg
END:VEVENT
BEGIN:VEVENT
DTSTART;VALUE=DATE:20231210
DTEND;VALUE=DATE:20231211
DTSTAMP:20260420T063223
CREATED:20231114T004839Z
LAST-MODIFIED:20231114T005042Z
UID:2654-1702166400-1702252799@dswp.org
SUMMARY:Board of Directors and 50-Year Members Holiday Luncheon
DESCRIPTION:
URL:https://dswp.org/event/board-of-directors-and-50-year-members-holiday-luncheon/
LOCATION:LeMont Restaurant\, Pittsburgh\, 1114 Grandview Ave\, Pittsburgh\, PA\, 15211\, United States
CATEGORIES:Holiday Luncheon
ATTACH;FMTTYPE=image/jpeg:https://dswp.org/wp-content/uploads/2023/11/holiday-1.jpg
END:VEVENT
BEGIN:VEVENT
DTSTART;VALUE=DATE:20231102
DTEND;VALUE=DATE:20231104
DTSTAMP:20260420T063223
CREATED:20230709T011620Z
LAST-MODIFIED:20230802T024744Z
UID:2542-1698883200-1699055999@dswp.org
SUMMARY:3 Rivers Dental Conference
DESCRIPTION:Courses and Speakers \n\nMr. Matthew Binstock and Mr. Frank Rocchio – Mastering Dental Practice Prosperity: Integrating Financial Management\, Employee Retention\, and Succession Planning\nMr. Matthew Spady – Opioids\nDr Michael Whyte – From Smiles to Success: Unleash the Power of Clear Aligners and Insurance and Investment\nDr Paul Goodman – SADs Looking to Sell\, BADs Looking to Buy & Exhausted MADs\nDr. Robert Marus – Restoring Teeth with High Strength\, Injectable Composite\nDr. Tracey Nguyen – Implementing Airway Management in a Dental Practice\nDr. Robert Marus – The Imperceptible Restoration of the Anterior Fractured Tooth\nDr. Debra Goff – New Dental Antibiotic Guidance\nDr. Peter Auster – Newer than New: Surprising Changes in Dentistry\nDr. Ashley Clark – Oral Cancer and the Dental Team: What you Need to Know\nDr. Peter Auster – Be Your Own Prosthodontist – Keeping Big Cases In-House\n\n 
URL:https://dswp.org/event/three-rivers-dental-conference/
LOCATION:Nemacolin Woodlands Resort\, Farmington\, Pennsylvania\, 15437
CATEGORIES:Three Rivers Dental Conference
ATTACH;FMTTYPE=image/png:https://dswp.org/wp-content/uploads/2023/07/three-rivers-dental-conference.png
END:VEVENT
BEGIN:VEVENT
DTSTART;TZID=America/New_York:20231018T190000
DTEND;TZID=America/New_York:20231018T210000
DTSTAMP:20260420T063223
CREATED:20230709T014039Z
LAST-MODIFIED:20230709T014211Z
UID:2548-1697655600-1697662800@dswp.org
SUMMARY:Board of Directors Meeting
DESCRIPTION:
URL:https://dswp.org/event/board-of-directors-meeting-2/
LOCATION:PA
CATEGORIES:Board of Director's Meeting
ATTACH;FMTTYPE=image/png:https://dswp.org/wp-content/uploads/2023/07/pittsburgh-bridge-bod.png
END:VEVENT
BEGIN:VEVENT
DTSTART;VALUE=DATE:20231005
DTEND;VALUE=DATE:20231011
DTSTAMP:20260420T063223
CREATED:20230709T010813Z
LAST-MODIFIED:20230709T011841Z
UID:2539-1696464000-1696982399@dswp.org
SUMMARY:ADA Annual Meeting
DESCRIPTION:
URL:https://dswp.org/event/ada-annual-meeting/
LOCATION:Orange County Convention Center\, Orlando\, Florida
CATEGORIES:ADA Meeting
ATTACH;FMTTYPE=image/png:https://dswp.org/wp-content/uploads/2023/07/palm-trees.png
END:VEVENT
BEGIN:VEVENT
DTSTART;TZID=America/New_York:20230922T190000
DTEND;TZID=America/New_York:20230922T210000
DTSTAMP:20260420T063223
CREATED:20230709T004509Z
LAST-MODIFIED:20230709T013847Z
UID:2536-1695409200-1695416400@dswp.org
SUMMARY:Board of Directors Meeting
DESCRIPTION:
URL:https://dswp.org/event/board-of-directors-meeting/
LOCATION:PA
CATEGORIES:Board of Director's Meeting
ATTACH;FMTTYPE=image/png:https://dswp.org/wp-content/uploads/2023/07/pittsburgh-bridge-bod.png
END:VEVENT
END:VCALENDAR