BEGIN:VCALENDAR
VERSION:2.0
PRODID:-//Dental Society of Western PA - ECPv6.15.20//NONSGML v1.0//EN
CALSCALE:GREGORIAN
METHOD:PUBLISH
X-WR-CALNAME:Dental Society of Western PA
X-ORIGINAL-URL:https://dswp.org
X-WR-CALDESC:Events for Dental Society of Western PA
REFRESH-INTERVAL;VALUE=DURATION:PT1H
X-Robots-Tag:noindex
X-PUBLISHED-TTL:PT1H
BEGIN:VTIMEZONE
TZID:America/New_York
BEGIN:DAYLIGHT
TZOFFSETFROM:-0500
TZOFFSETTO:-0400
TZNAME:EDT
DTSTART:20250309T070000
END:DAYLIGHT
BEGIN:STANDARD
TZOFFSETFROM:-0400
TZOFFSETTO:-0500
TZNAME:EST
DTSTART:20251102T060000
END:STANDARD
BEGIN:DAYLIGHT
TZOFFSETFROM:-0500
TZOFFSETTO:-0400
TZNAME:EDT
DTSTART:20260308T070000
END:DAYLIGHT
BEGIN:STANDARD
TZOFFSETFROM:-0400
TZOFFSETTO:-0500
TZNAME:EST
DTSTART:20261101T060000
END:STANDARD
BEGIN:DAYLIGHT
TZOFFSETFROM:-0500
TZOFFSETTO:-0400
TZNAME:EDT
DTSTART:20270314T070000
END:DAYLIGHT
BEGIN:STANDARD
TZOFFSETFROM:-0400
TZOFFSETTO:-0500
TZNAME:EST
DTSTART:20271107T060000
END:STANDARD
END:VTIMEZONE
BEGIN:VEVENT
DTSTART;TZID=America/New_York:20260623T184000
DTEND;TZID=America/New_York:20260623T184000
DTSTAMP:20260420T081258
CREATED:20260328T214800Z
LAST-MODIFIED:20260328T214800Z
UID:3152-1782240000-1782240000@dswp.org
SUMMARY:Annual Dental Appreciation Night at PNC Park
DESCRIPTION:The Pittsburgh Pirates invite Dentists\, Dental Hygienists\, Dental Assistants\, and all dental health care professionals to enjoy a fun evening at the ballpark. This is the perfect opportunity to treat your office to a staff outing at PNC Park and celebrate the hard work of your dental team together. \nSpecial Offer (Limited Time):\nEach ticket includes a Pittsburgh Pirates Scrub Top and $10 Loaded Value to use at concessions or merchandise locations throughout the ballpark. \nTicket Pricing:\nLower Level: ranges from $32 up to $65 per ticket depending on location\nUpper Level: Starting at $29 \nBonus Opportunity:\nThe first 10 offices to sign up may have one member of their group recognized on the field during pregame ceremonies! \nTo purchase tickets please contact Joshua Avart at 412-325-4903.    \nWe hope you’ll join us for a great night of baseball\, appreciation\, and fun at PNC Park.
URL:https://dswp.org/event/annual-dental-appreciation-night-at-pnc-park/
LOCATION:PNC Park\, 115 Federal St\, Pittsburgh\, PA\, 15212\, United States
CATEGORIES:Group Event
ATTACH;FMTTYPE=image/jpeg:https://dswp.org/wp-content/uploads/2026/03/pirates-night.jpg
END:VEVENT
BEGIN:VEVENT
DTSTART;VALUE=DATE:20261105
DTEND;VALUE=DATE:20261107
DTSTAMP:20260420T081258
CREATED:20260309T002728Z
LAST-MODIFIED:20260309T002831Z
UID:3140-1793836800-1794009599@dswp.org
SUMMARY:2026 3Rivers Dental Conference
DESCRIPTION:Get ready to enrich your knowledge\, expand your skills\, and ignite your passion for dentistry. Earn valuable continuing education credits while connecting with industry leaders and exploring the latest advancements in dental care. Don’t miss this opportunity to advance excellence in dental care. \nLearn More
URL:https://dswp.org/event/2026-3rivers-dental-conference/
LOCATION:Nemacolin Woodlands Resort\, Farmington\, Pennsylvania\, 15437
CATEGORIES:Three Rivers Dental Conference
ATTACH;FMTTYPE=image/jpeg:https://dswp.org/wp-content/uploads/2023/07/dentalsocietywesternpadentaltechnology.jpg
END:VEVENT
END:VCALENDAR